BEGIN:VCALENDAR
VERSION:2.0
PRODID:-//Ciência no Ar - Programa de Extensão - UFMG
CALSCALE:GREGORIAN
METHOD:PUBLISH
X-WR-CALNAME:Ciência no Ar - Programa de Extensão - UFMG
X-ORIGINAL-URL:https://www.ufmg.br/ciencianoar/conteudo/tem-leite/
X-WR-CALDESC:Tem Leite?
BEGIN:VEVENT
DTSTART:
DTEND:
SUMMARY:Tem Leite?
DESCRIPTION:Você deve conhecer alguém que tenha a chamada intolerância à lactose. Será por quê que isso acontece? Ouça o programa completo e entenda como funciona isso no nosso organismo.
LOCATION:
END:VEVENT
END:VCALENDAR
