BEGIN:VCALENDAR
VERSION:2.0
PRODID:-//Ciência no Ar - Programa de Extensão - UFMG
CALSCALE:GREGORIAN
METHOD:PUBLISH
X-WR-CALNAME:Ciência no Ar - Programa de Extensão - UFMG
X-ORIGINAL-URL:https://www.ufmg.br/ciencianoar/conteudo/o-gigante-do-gelo/
X-WR-CALDESC:O gigante do gelo
BEGIN:VEVENT
DTSTART:
DTEND:
SUMMARY:O gigante do gelo
DESCRIPTION:Você sabe como sobrevivem os ursos polares? A pesar das baixas temperaturas ele se adapta perfeitamente ao frio,  sendo um dos poucos animais que sobrevivem nestas condições e tornando a região do Ártico um habitat ideal. Ouça o programa completo para saber mais sobre esse assunto!
LOCATION:
END:VEVENT
END:VCALENDAR
