BEGIN:VCALENDAR
VERSION:2.0
PRODID:-//Ciência no Ar - Programa de Extensão - UFMG
CALSCALE:GREGORIAN
METHOD:PUBLISH
X-WR-CALNAME:Ciência no Ar - Programa de Extensão - UFMG
X-ORIGINAL-URL:https://www.ufmg.br/ciencianoar/conteudo/tecido-liquido-como-assim/
X-WR-CALDESC:Tecido líquido? Como assim?
BEGIN:VEVENT
DTSTART:
DTEND:
SUMMARY:Tecido líquido? Como assim?
DESCRIPTION:Quando pensamos em tecido, já vem a mente algo unido, interligado  e de difícil rompimento. Mas, por incrível que pareça, o sangue também é considerado um tecido. Ouça o programa completo para saber mais sobre esse assunto! 
LOCATION:
END:VEVENT
END:VCALENDAR
