BEGIN:VCALENDAR
VERSION:2.0
PRODID:-//Ciência no Ar - Programa de Extensão - UFMG
CALSCALE:GREGORIAN
METHOD:PUBLISH
X-WR-CALNAME:Ciência no Ar - Programa de Extensão - UFMG
X-ORIGINAL-URL:https://www.ufmg.br/ciencianoar/conteudo/ratos-e-ursos/
X-WR-CALDESC:Ratos e ursos
BEGIN:VEVENT
DTSTART:
DTEND:
SUMMARY:Ratos e ursos
DESCRIPTION:O rato-da-taquara é um roedor arbóreo nativo da mata atlântica. A pesar do de estar no seu nome este roedor é muito diferente dos ratos urbanos que conhecemos. Ouça o programa completo para saber mais sobre esse assunto!
LOCATION:
END:VEVENT
END:VCALENDAR
