BEGIN:VCALENDAR
VERSION:2.0
PRODID:-//Ciência no Ar - Programa de Extensão - UFMG
CALSCALE:GREGORIAN
METHOD:PUBLISH
X-WR-CALNAME:Ciência no Ar - Programa de Extensão - UFMG
X-ORIGINAL-URL:https://www.ufmg.br/ciencianoar/conteudo/morcegos-sao-do-bem/
X-WR-CALDESC:Morcegos são do bem
BEGIN:VEVENT
DTSTART:
DTEND:
SUMMARY:Morcegos são do bem
DESCRIPTION:Existem animais que naturalmente causam medo e um deles é o morcego. Sua aparência, seus hábitos noturnos e sua suposta preferência alimentar por sangue podem ser os maiores motivos, mas você sabia que grande parte dos morcegos são do bem? Ouça o programa completo para saber mais sobre esse assunto!
LOCATION:
END:VEVENT
END:VCALENDAR
